BEGIN:VCALENDAR
VERSION:2.0
PRODID:-//Brian Oakes Ballroom &amp; Latin Lessons Naples FL - ECPv6.15.20//NONSGML v1.0//EN
CALSCALE:GREGORIAN
METHOD:PUBLISH
X-WR-CALNAME:Brian Oakes Ballroom &amp; Latin Lessons Naples FL
X-ORIGINAL-URL:https://ballroomlessonsnaples.com
X-WR-CALDESC:Events for Brian Oakes Ballroom &amp; Latin Lessons Naples FL
REFRESH-INTERVAL;VALUE=DURATION:PT1H
X-Robots-Tag:noindex
X-PUBLISHED-TTL:PT1H
BEGIN:VTIMEZONE
TZID:America/New_York
BEGIN:DAYLIGHT
TZOFFSETFROM:-0500
TZOFFSETTO:-0400
TZNAME:EDT
DTSTART:20240310T070000
END:DAYLIGHT
BEGIN:STANDARD
TZOFFSETFROM:-0400
TZOFFSETTO:-0500
TZNAME:EST
DTSTART:20241103T060000
END:STANDARD
BEGIN:DAYLIGHT
TZOFFSETFROM:-0500
TZOFFSETTO:-0400
TZNAME:EDT
DTSTART:20250309T070000
END:DAYLIGHT
BEGIN:STANDARD
TZOFFSETFROM:-0400
TZOFFSETTO:-0500
TZNAME:EST
DTSTART:20251102T060000
END:STANDARD
BEGIN:DAYLIGHT
TZOFFSETFROM:-0500
TZOFFSETTO:-0400
TZNAME:EDT
DTSTART:20260308T070000
END:DAYLIGHT
BEGIN:STANDARD
TZOFFSETFROM:-0400
TZOFFSETTO:-0500
TZNAME:EST
DTSTART:20261101T060000
END:STANDARD
END:VTIMEZONE
BEGIN:VEVENT
DTSTART;TZID=America/New_York:20250425T191500
DTEND;TZID=America/New_York:20250425T201500
DTSTAMP:20260424T192915
CREATED:20240123T200519Z
LAST-MODIFIED:20250421T213924Z
UID:10001323-1745608500-1745612100@ballroomlessonsnaples.com
SUMMARY:Bachata Group Class Naples Florida With Brian Oakes
DESCRIPTION:We have a Bachata class every Friday at 7:15-8:15\, $20 \nWhat to expect when attending this group class;\n*Basic warm-up individually led by the instructor\n*Bachata\nWe recommend private lessons if you haven’t had any group classes to prepare and make you comfortable with beginner classes.\nMust RSVP LIMITED SPOTS. You may text 561-287-0443 with your full name and your guest’s name. \nThanks\,\nBrian Oakes
URL:https://ballroomlessonsnaples.com/calender/bachata-group-class-naples-florida-with-brian-oakes/2025-04-25
LOCATION:Salsa Group Class Naples Florida With Brian Oakes\, 2343 Vanderbilt Beach Road Unit 608\, Naples\, FL\, 34109\, United States
CATEGORIES:BACHATA GROUP CLASSES NAPLES FL
ORGANIZER;CN="Brian Oakes":MAILTO:oakesoakes7025@gmail.com
GEO:26.2452774;-81.7707723
X-APPLE-STRUCTURED-LOCATION;VALUE=URI;X-ADDRESS=Salsa Group Class Naples Florida With Brian Oakes 2343 Vanderbilt Beach Road Unit 608 Naples FL 34109 United States;X-APPLE-RADIUS=500;X-TITLE=2343 Vanderbilt Beach Road Unit 608:geo:-81.7707723,26.2452774
END:VEVENT
END:VCALENDAR