BEGIN:VCALENDAR
VERSION:2.0
PRODID:-//Brian Oakes Ballroom &amp; Latin Lessons Naples FL - ECPv6.15.20//NONSGML v1.0//EN
CALSCALE:GREGORIAN
METHOD:PUBLISH
X-WR-CALNAME:Brian Oakes Ballroom &amp; Latin Lessons Naples FL
X-ORIGINAL-URL:https://ballroomlessonsnaples.com
X-WR-CALDESC:Events for Brian Oakes Ballroom &amp; Latin Lessons Naples FL
REFRESH-INTERVAL;VALUE=DURATION:PT1H
X-Robots-Tag:noindex
X-PUBLISHED-TTL:PT1H
BEGIN:VTIMEZONE
TZID:America/New_York
BEGIN:DAYLIGHT
TZOFFSETFROM:-0500
TZOFFSETTO:-0400
TZNAME:EDT
DTSTART:20230312T070000
END:DAYLIGHT
BEGIN:STANDARD
TZOFFSETFROM:-0400
TZOFFSETTO:-0500
TZNAME:EST
DTSTART:20231105T060000
END:STANDARD
BEGIN:DAYLIGHT
TZOFFSETFROM:-0500
TZOFFSETTO:-0400
TZNAME:EDT
DTSTART:20240310T070000
END:DAYLIGHT
BEGIN:STANDARD
TZOFFSETFROM:-0400
TZOFFSETTO:-0500
TZNAME:EST
DTSTART:20241103T060000
END:STANDARD
BEGIN:DAYLIGHT
TZOFFSETFROM:-0500
TZOFFSETTO:-0400
TZNAME:EDT
DTSTART:20250309T070000
END:DAYLIGHT
BEGIN:STANDARD
TZOFFSETFROM:-0400
TZOFFSETTO:-0500
TZNAME:EST
DTSTART:20251102T060000
END:STANDARD
END:VTIMEZONE
BEGIN:VEVENT
DTSTART;TZID=America/New_York:20241115T204500
DTEND;TZID=America/New_York:20241115T214500
DTSTAMP:20260425T123958
CREATED:20241106T223429Z
LAST-MODIFIED:20241106T223429Z
UID:10001330-1731703500-1731707100@ballroomlessonsnaples.com
SUMMARY:Swing Group Class Every Friday Naples
DESCRIPTION:I have a Beginner Hustle/Swing group class every Friday at 8:45. Brian\, if you are new to dancing\, I recommend private lessons before joining to learn the dance’s basics and timing.\nYou may text or call if you have any questions.\nSee you on the dance floor soon\,\nBrian Oakes\n561-287-0443
URL:https://ballroomlessonsnaples.com/calender/swing-group-class-every-friday-naples
LOCATION:Salsa Group Class Naples Florida With Brian Oakes\, 2343 Vanderbilt Beach Road Unit 608\, Naples\, FL\, 34109\, United States
CATEGORIES:Swing Group Classes Naples FL
ORGANIZER;CN="Brian Oakes":MAILTO:oakesoakes7025@gmail.com
GEO:26.2452774;-81.7707723
X-APPLE-STRUCTURED-LOCATION;VALUE=URI;X-ADDRESS=Salsa Group Class Naples Florida With Brian Oakes 2343 Vanderbilt Beach Road Unit 608 Naples FL 34109 United States;X-APPLE-RADIUS=500;X-TITLE=2343 Vanderbilt Beach Road Unit 608:geo:-81.7707723,26.2452774
END:VEVENT
BEGIN:VEVENT
DTSTART;TZID=America/New_York:20241115T191500
DTEND;TZID=America/New_York:20241115T203000
DTSTAMP:20260425T123958
CREATED:20241105T214800Z
LAST-MODIFIED:20241105T215139Z
UID:10001325-1731698100-1731702600@ballroomlessonsnaples.com
SUMMARY:Bachata Group Class Naples Florida With Brian Oakes
DESCRIPTION:We have a Bachata class every Friday at 7:15-8:15 $15 \nWhat to expect when attending this group class;\n*Basic warm-up individually led by the instructor\n*Bachata\nWe recommend private lessons if you haven’t had any group classes to prepare and make you feel comfortable with beginner’s classes.\nMust RSVP LIMITED SPOTS. You may text 561-287-0443 with your full name and your guest’s name. \nThanks\,\nBrian Oakes
URL:https://ballroomlessonsnaples.com/calender/bachata-group-class-naples-florida-with-brian-oakes-2
LOCATION:Salsa Group Class Naples Florida With Brian Oakes\, 2343 Vanderbilt Beach Road Unit 608\, Naples\, FL\, 34109\, United States
CATEGORIES:bachata group classes,BACHATA GROUP CLASSES NAPLES FL,private Bachata lessons
ORGANIZER;CN="Brian Oakes":MAILTO:oakesoakes7025@gmail.com
GEO:26.2452774;-81.7707723
X-APPLE-STRUCTURED-LOCATION;VALUE=URI;X-ADDRESS=Salsa Group Class Naples Florida With Brian Oakes 2343 Vanderbilt Beach Road Unit 608 Naples FL 34109 United States;X-APPLE-RADIUS=500;X-TITLE=2343 Vanderbilt Beach Road Unit 608:geo:-81.7707723,26.2452774
END:VEVENT
BEGIN:VEVENT
DTSTART;TZID=America/New_York:20241109T191500
DTEND;TZID=America/New_York:20241109T203000
DTSTAMP:20260425T123958
CREATED:20241105T212135Z
LAST-MODIFIED:20241105T215014Z
UID:10001324-1731179700-1731184200@ballroomlessonsnaples.com
SUMMARY:Bachata Group Class Every Friday In Naples With Brian Oakes
DESCRIPTION:We have a Bachata class every Friday at 7:15-8:15 $15 \nWhat to expect when attending this group class;\n*Basic warm-up individually led by the instructor\n*Bachata\nWe recommend private lessons if you haven’t had any group classes to prepare and make you feel comfortable with beginner’s classes.\nMust RSVP LIMITED SPOTS. You may text 561-287-0443 with your full name and your guest’s name. \nThanks\,\nBrian Oakes
URL:https://ballroomlessonsnaples.com/calender/bachata-group-class-every-friday-in-naples-with-brian-oakes
LOCATION:Salsa Group Class Naples Florida With Brian Oakes\, 2343 Vanderbilt Beach Road Unit 608\, Naples\, FL\, 34109\, United States
CATEGORIES:bachata group classes,BACHATA GROUP CLASSES NAPLES FL
ORGANIZER;CN="Brian Oakes":MAILTO:oakesoakes7025@gmail.com
GEO:26.2452774;-81.7707723
X-APPLE-STRUCTURED-LOCATION;VALUE=URI;X-ADDRESS=Salsa Group Class Naples Florida With Brian Oakes 2343 Vanderbilt Beach Road Unit 608 Naples FL 34109 United States;X-APPLE-RADIUS=500;X-TITLE=2343 Vanderbilt Beach Road Unit 608:geo:-81.7707723,26.2452774
END:VEVENT
BEGIN:VEVENT
DTSTART;TZID=America/New_York:20241109T183000
DTEND;TZID=America/New_York:20241109T193000
DTSTAMP:20260425T123958
CREATED:20241105T220052Z
LAST-MODIFIED:20241105T220723Z
UID:10001327-1731177000-1731180600@ballroomlessonsnaples.com
SUMMARY:Salsa Group Class Naples Florida With Brian Oakes
DESCRIPTION:Salsa Group Class every Saturday at 6:30-:7:30 Naples \nWhat to expect when attending this group class;\n*Basic warm-up individually led by the instructor\n*Salsa Combo\nPLEASE RSVP LIMITED SPOTS.\nYou may text 561-287-0443 with your and your guests’ full names.\nSee you on the dance floor!\nBrian Oakes\nhttps://ballroomlessonsnaples.com/
URL:https://ballroomlessonsnaples.com/calender/salsa-group-class-naples-florida-with-brian-oakes
LOCATION:Salsa Group Class Naples Florida With Brian Oakes\, 2343 Vanderbilt Beach Road Unit 608\, Naples\, FL\, 34109\, United States
CATEGORIES:Salsa Group Class Naples Florid With Brian Oakes
ORGANIZER;CN="Brian Oakes":MAILTO:oakesoakes7025@gmail.com
GEO:26.2452774;-81.7707723
X-APPLE-STRUCTURED-LOCATION;VALUE=URI;X-ADDRESS=Salsa Group Class Naples Florida With Brian Oakes 2343 Vanderbilt Beach Road Unit 608 Naples FL 34109 United States;X-APPLE-RADIUS=500;X-TITLE=2343 Vanderbilt Beach Road Unit 608:geo:-81.7707723,26.2452774
END:VEVENT
END:VCALENDAR