BEGIN:VCALENDAR
VERSION:2.0
PRODID:-//Brian Oakes Ballroom &amp; Latin Lessons Naples FL - ECPv6.15.20//NONSGML v1.0//EN
CALSCALE:GREGORIAN
METHOD:PUBLISH
X-ORIGINAL-URL:https://ballroomlessonsnaples.com
X-WR-CALDESC:Events for Brian Oakes Ballroom &amp; Latin Lessons Naples FL
REFRESH-INTERVAL;VALUE=DURATION:PT1H
X-Robots-Tag:noindex
X-PUBLISHED-TTL:PT1H
BEGIN:VTIMEZONE
TZID:America/New_York
BEGIN:DAYLIGHT
TZOFFSETFROM:-0500
TZOFFSETTO:-0400
TZNAME:EDT
DTSTART:20250309T070000
END:DAYLIGHT
BEGIN:STANDARD
TZOFFSETFROM:-0400
TZOFFSETTO:-0500
TZNAME:EST
DTSTART:20251102T060000
END:STANDARD
BEGIN:DAYLIGHT
TZOFFSETFROM:-0500
TZOFFSETTO:-0400
TZNAME:EDT
DTSTART:20260308T070000
END:DAYLIGHT
BEGIN:STANDARD
TZOFFSETFROM:-0400
TZOFFSETTO:-0500
TZNAME:EST
DTSTART:20261101T060000
END:STANDARD
BEGIN:DAYLIGHT
TZOFFSETFROM:-0500
TZOFFSETTO:-0400
TZNAME:EDT
DTSTART:20270314T070000
END:DAYLIGHT
BEGIN:STANDARD
TZOFFSETFROM:-0400
TZOFFSETTO:-0500
TZNAME:EST
DTSTART:20271107T060000
END:STANDARD
END:VTIMEZONE
BEGIN:VEVENT
DTSTART;TZID=America/New_York:20260605T203000
DTEND;TZID=America/New_York:20260606T213000
DTSTAMP:20260423T163704
CREATED:20260121T185327Z
LAST-MODIFIED:20260121T185327Z
UID:10002175-1780691400-1780781400@ballroomlessonsnaples.com
SUMMARY:Salsa Group Class Naples
DESCRIPTION:Hello Dancers! I have started my group classes again. Please join us to kick off the startup of group classes again. BACHATA Group Class every Friday\n7:30-8:30 SALSA Group Class every Friday 8:30-9:30 $20 per person per class RSVP via text\, please. See you on the dance floor. See You On The Dance Floor\nBrian Oakes\nText or call 561-287-0443.\nhttps://ballroomlessonsnaples.com/
URL:https://ballroomlessonsnaples.com/calender/salsa-group-class-naples-florida-with-brian-oakes-2-2-2/2026-06-05
LOCATION:Salsa Group Class Naples Florida With Brian Oakes\, 2343 Vanderbilt Beach Road Unit 608\, Naples\, FL\, 34109\, United States
CATEGORIES:Salsa Group Class Naples Florid With Brian Oakes
ATTACH;FMTTYPE=image/jpeg:https://ballroomlessonsnaples.com/wp-content/uploads/2022/01/groupmiahaela-scaled.jpg
ORGANIZER;CN="Brian Oakes":MAILTO:oakesoakes7025@gmail.com
GEO:26.2452774;-81.7707723
X-APPLE-STRUCTURED-LOCATION;VALUE=URI;X-ADDRESS=Salsa Group Class Naples Florida With Brian Oakes 2343 Vanderbilt Beach Road Unit 608 Naples FL 34109 United States;X-APPLE-RADIUS=500;X-TITLE=2343 Vanderbilt Beach Road Unit 608:geo:-81.7707723,26.2452774
END:VEVENT
END:VCALENDAR