BEGIN:VCALENDAR
VERSION:2.0
PRODID:-//Brian Oakes Ballroom &amp; Latin Lessons Naples FL - ECPv6.15.20//NONSGML v1.0//EN
CALSCALE:GREGORIAN
METHOD:PUBLISH
X-ORIGINAL-URL:https://ballroomlessonsnaples.com
X-WR-CALDESC:Events for Brian Oakes Ballroom &amp; Latin Lessons Naples FL
REFRESH-INTERVAL;VALUE=DURATION:PT1H
X-Robots-Tag:noindex
X-PUBLISHED-TTL:PT1H
BEGIN:VTIMEZONE
TZID:America/New_York
BEGIN:DAYLIGHT
TZOFFSETFROM:-0500
TZOFFSETTO:-0400
TZNAME:EDT
DTSTART:20250309T070000
END:DAYLIGHT
BEGIN:STANDARD
TZOFFSETFROM:-0400
TZOFFSETTO:-0500
TZNAME:EST
DTSTART:20251102T060000
END:STANDARD
BEGIN:DAYLIGHT
TZOFFSETFROM:-0500
TZOFFSETTO:-0400
TZNAME:EDT
DTSTART:20260308T070000
END:DAYLIGHT
BEGIN:STANDARD
TZOFFSETFROM:-0400
TZOFFSETTO:-0500
TZNAME:EST
DTSTART:20261101T060000
END:STANDARD
BEGIN:DAYLIGHT
TZOFFSETFROM:-0500
TZOFFSETTO:-0400
TZNAME:EDT
DTSTART:20270314T070000
END:DAYLIGHT
BEGIN:STANDARD
TZOFFSETFROM:-0400
TZOFFSETTO:-0500
TZNAME:EST
DTSTART:20271107T060000
END:STANDARD
END:VTIMEZONE
BEGIN:VEVENT
DTSTART;TZID=America/New_York:20260109T191500
DTEND;TZID=America/New_York:20260109T201500
DTSTAMP:20260423T174415
CREATED:20250508T195327Z
LAST-MODIFIED:20250508T200054Z
UID:10001669-1767986100-1767989700@ballroomlessonsnaples.com
SUMMARY:Bachata Group Class Naples Florida With Brian Oakes
DESCRIPTION:We have a Bachata class every Friday at 7:15-8:15\, $20 \nWhat to expect when attending this group class;\n*Basic warm-up individually led by the instructor\n*Bachata\nWe recommend private lessons if you haven’t had any group classes to prepare and make you comfortable with beginner classes.\nMust RSVP LIMITED SPOTS. You may text 561-287-0443 with your full name and your guest’s name. \nThanks\,\nBrian Oakes\nBachata group classes offer various styles and skill levels to cater to different learning preferences and dance experience. Popular styles include Dominican Bachata\, Sensual Bachata\, Bachata Moderna\, and Bachata Fusion. Classes are also often categorized by beginner\, intermediate\, and advanced levels\, allowing students to progress at their own pace. \nBachata Group Class Naples Florida With Brian Oakes \n\n\n\n\n\n\n\nDominican Bachata:\n\nThis style emphasizes traditional Dominican music and footwork\, with a focus on simple\, rhythmic steps and a close embrace.  \n\n\n\n\n\n\n\n\n\n\n\n\n\n\n\n\nSensual Bachata:\n\nThis style incorporates more sensual movements and dips\, often inspired by zouk and kizomba\, and typically danced to slower\, more romantic bachata music.  \n\n\n\n\n\n\n\n\n\n\n\n\n\n\n\n\nBachata Moderna:\n\nThis style features more modern music and movement\, with a looser embrace and more emphasis on upper-body movements and styling.  \n\n\n\n\n\n\n\n\n\n\n\n\n\n\n\n\nBachata Fusion:\n\nThis style combines elements of different bachata styles\, creating a more versatile and expressive form of dance.  \n\n\n\n\n\n\n\n\n\n\n\n\n\n\n\n\nBachatango\n\nThis style merges the elements of Argentine tango and bachata.  \n\n\n\n\n\n\n\n\n\n\n\n\n\n\n\n\nBachata Ladies Styling:\n\nThese classes focus on improving the technique and styling of female dancers in bachata.  \n\n\n\n\n\n\n\n\n\n\n\n\n\n\n\n\n\n2. By Skill Level:\n\n\n\n\n\n\n\n\n\nBeginner:\nThese classes focus on the basic steps and fundamental movements of bachata.\n\n\n\n\n\n\n\n\nIntermediate:\nThese classes build upon the basics and introduce more complex steps and partnering techniques.\n\n\n\n\n\n\n\n\nAdvanced:\nThese classes explore more challenging choreographies and advanced partneri\n\n\n\n\n\n\n\n 
URL:https://ballroomlessonsnaples.com/calender/bachata-group-class-naples-florida-with-brian-oakes-4/2026-01-09
LOCATION:Salsa Group Class Naples Florida With Brian Oakes\, 2343 Vanderbilt Beach Road Unit 608\, Naples\, FL\, 34109\, United States
CATEGORIES:BACHATA GROUP CLASSES NAPLES FL
ATTACH;FMTTYPE=image/jpeg:https://ballroomlessonsnaples.com/wp-content/uploads/2022/02/MOVIE.jpg
ORGANIZER;CN="Brian Oakes":MAILTO:oakesoakes7025@gmail.com
GEO:26.2452774;-81.7707723
X-APPLE-STRUCTURED-LOCATION;VALUE=URI;X-ADDRESS=Salsa Group Class Naples Florida With Brian Oakes 2343 Vanderbilt Beach Road Unit 608 Naples FL 34109 United States;X-APPLE-RADIUS=500;X-TITLE=2343 Vanderbilt Beach Road Unit 608:geo:-81.7707723,26.2452774
END:VEVENT
END:VCALENDAR