BEGIN:VCALENDAR
VERSION:2.0
PRODID:-//Brian Oakes Ballroom &amp; Latin Lessons Naples FL - ECPv6.15.20//NONSGML v1.0//EN
CALSCALE:GREGORIAN
METHOD:PUBLISH
X-WR-CALNAME:Brian Oakes Ballroom &amp; Latin Lessons Naples FL
X-ORIGINAL-URL:https://ballroomlessonsnaples.com
X-WR-CALDESC:Events for Brian Oakes Ballroom &amp; Latin Lessons Naples FL
REFRESH-INTERVAL;VALUE=DURATION:PT1H
X-Robots-Tag:noindex
X-PUBLISHED-TTL:PT1H
BEGIN:VTIMEZONE
TZID:America/New_York
BEGIN:DAYLIGHT
TZOFFSETFROM:-0500
TZOFFSETTO:-0400
TZNAME:EDT
DTSTART:20240310T070000
END:DAYLIGHT
BEGIN:STANDARD
TZOFFSETFROM:-0400
TZOFFSETTO:-0500
TZNAME:EST
DTSTART:20241103T060000
END:STANDARD
BEGIN:DAYLIGHT
TZOFFSETFROM:-0500
TZOFFSETTO:-0400
TZNAME:EDT
DTSTART:20250309T070000
END:DAYLIGHT
BEGIN:STANDARD
TZOFFSETFROM:-0400
TZOFFSETTO:-0500
TZNAME:EST
DTSTART:20251102T060000
END:STANDARD
BEGIN:DAYLIGHT
TZOFFSETFROM:-0500
TZOFFSETTO:-0400
TZNAME:EDT
DTSTART:20260308T070000
END:DAYLIGHT
BEGIN:STANDARD
TZOFFSETFROM:-0400
TZOFFSETTO:-0500
TZNAME:EST
DTSTART:20261101T060000
END:STANDARD
END:VTIMEZONE
BEGIN:VEVENT
DTSTART;TZID=America/New_York:20251220T183000
DTEND;TZID=America/New_York:20251220T193000
DTSTAMP:20260423T201518
CREATED:20250508T191756Z
LAST-MODIFIED:20250508T195123Z
UID:10001926-1766255400-1766259000@ballroomlessonsnaples.com
SUMMARY:Salsa Group Class Naples
DESCRIPTION:Salsa Group Class every Saturday at 6:30-:7:30\, Naples\, Florida \nWhat to expect when attending this Salsa group class;\n*Basic warm-up individually led by the instructor\n*  Salsa Combo led by the instructor \nPLEASE RSVP LIMITED SPOTS.\nYou may text 561-287-0443 with your and your guests’ full names.\nSee you on the dance floor!\nBrian Oakes \nHome \n\nIf you haven’t had any dance lessons\, we suggest private Salsa lessons to prepare you for the Salsa group class.\nA salsa group class is a dance class where multiple people (typically couples) learn the basic steps and patterns of salsa dancing under the guidance of an instructor.\nDifferent styles of salsa exist\, and some classes may focus on specific styles\, such as Cuban salsa\, New York salsa\, or Los Angeles salsa. 
URL:https://ballroomlessonsnaples.com/calender/salsa-group-class-naples-florida-with-brian-oakes-2-2/2025-12-20
LOCATION:Salsa Group Class Naples Florida With Brian Oakes\, 2343 Vanderbilt Beach Road Unit 608\, Naples\, FL\, 34109\, United States
CATEGORIES:Salsa Group Class Naples Florid With Brian Oakes
ATTACH;FMTTYPE=image/jpeg:https://ballroomlessonsnaples.com/wp-content/uploads/2022/01/groupmiahaela-scaled.jpg
ORGANIZER;CN="Brian Oakes":MAILTO:oakesoakes7025@gmail.com
GEO:26.2452774;-81.7707723
X-APPLE-STRUCTURED-LOCATION;VALUE=URI;X-ADDRESS=Salsa Group Class Naples Florida With Brian Oakes 2343 Vanderbilt Beach Road Unit 608 Naples FL 34109 United States;X-APPLE-RADIUS=500;X-TITLE=2343 Vanderbilt Beach Road Unit 608:geo:-81.7707723,26.2452774
END:VEVENT
END:VCALENDAR